BEGIN:VCALENDAR
VERSION:2.0
PRODID:-//TraderOnTheStreet - ECPv6.15.17.1//NONSGML v1.0//EN
CALSCALE:GREGORIAN
METHOD:PUBLISH
X-WR-CALNAME:TraderOnTheStreet
X-ORIGINAL-URL:https://traderonthestreet.com
X-WR-CALDESC:Events for TraderOnTheStreet
REFRESH-INTERVAL;VALUE=DURATION:PT1H
X-Robots-Tag:noindex
X-PUBLISHED-TTL:PT1H
BEGIN:VTIMEZONE
TZID:America/Denver
BEGIN:DAYLIGHT
TZOFFSETFROM:-0700
TZOFFSETTO:-0600
TZNAME:MDT
DTSTART:20250309T090000
END:DAYLIGHT
BEGIN:STANDARD
TZOFFSETFROM:-0600
TZOFFSETTO:-0700
TZNAME:MST
DTSTART:20251102T080000
END:STANDARD
BEGIN:DAYLIGHT
TZOFFSETFROM:-0700
TZOFFSETTO:-0600
TZNAME:MDT
DTSTART:20260308T090000
END:DAYLIGHT
BEGIN:STANDARD
TZOFFSETFROM:-0600
TZOFFSETTO:-0700
TZNAME:MST
DTSTART:20261101T080000
END:STANDARD
BEGIN:DAYLIGHT
TZOFFSETFROM:-0700
TZOFFSETTO:-0600
TZNAME:MDT
DTSTART:20270314T090000
END:DAYLIGHT
BEGIN:STANDARD
TZOFFSETFROM:-0600
TZOFFSETTO:-0700
TZNAME:MST
DTSTART:20271107T080000
END:STANDARD
END:VTIMEZONE
BEGIN:VEVENT
DTSTART;TZID=America/Denver:20260421T070000
DTEND;TZID=America/Denver:20260421T080000
DTSTAMP:20260421T013345
CREATED:20260402T182036Z
LAST-MODIFIED:20260402T182036Z
UID:141835-1776754800-1776758400@traderonthestreet.com
SUMMARY:Daily Forex Fanatics
DESCRIPTION:Daily Forex Fanatics
URL:https://traderonthestreet.com/event/daily-forex-fanatics-981/
CATEGORIES:Classes,Paying Customer
ATTACH;FMTTYPE=image/webp:https://traderonthestreet.com/wp-content/uploads/2021/05/Event-Thumbnail_ApiaryFund-Krewe.png.webp
LOCATION:https://us06web.zoom.us/j/83411924371
END:VEVENT
BEGIN:VEVENT
DTSTART;TZID=America/Denver:20260421T090000
DTEND;TZID=America/Denver:20260421T100000
DTSTAMP:20260421T013345
CREATED:20260104T190917Z
LAST-MODIFIED:20260411T191854Z
UID:138739-1776762000-1776765600@traderonthestreet.com
SUMMARY:Options Trading Room
DESCRIPTION:Rex’s Trading Room
URL:https://traderonthestreet.com/event/rexs-trading-room-387/
CATEGORIES:Trading Room
ATTACH;FMTTYPE=image/webp:https://traderonthestreet.com/wp-content/uploads/2021/05/Event-Thumbnail_ApiaryFund-Krewe.png.webp
LOCATION:https://us06web.zoom.us/j/85137559439
END:VEVENT
BEGIN:VEVENT
DTSTART;TZID=America/Denver:20260421T170000
DTEND;TZID=America/Denver:20260421T180000
DTSTAMP:20260421T013345
CREATED:20260411T190803Z
LAST-MODIFIED:20260411T190803Z
UID:143625-1776790800-1776794400@traderonthestreet.com
SUMMARY:Strategy Development Trading Room
DESCRIPTION:Strategy Development Trading Room
URL:https://traderonthestreet.com/event/strategy-development-trading-room-2/
CATEGORIES:Trading Room
LOCATION:https://us06web.zoom.us/j/85309229950
END:VEVENT
END:VCALENDAR