BEGIN:VCALENDAR
VERSION:2.0
PRODID:-//TraderOnTheStreet - ECPv6.15.17.1//NONSGML v1.0//EN
CALSCALE:GREGORIAN
METHOD:PUBLISH
X-WR-CALNAME:TraderOnTheStreet
X-ORIGINAL-URL:https://traderonthestreet.com
X-WR-CALDESC:Events for TraderOnTheStreet
REFRESH-INTERVAL;VALUE=DURATION:PT1H
X-Robots-Tag:noindex
X-PUBLISHED-TTL:PT1H
BEGIN:VTIMEZONE
TZID:America/Denver
BEGIN:DAYLIGHT
TZOFFSETFROM:-0700
TZOFFSETTO:-0600
TZNAME:MDT
DTSTART:20250309T090000
END:DAYLIGHT
BEGIN:STANDARD
TZOFFSETFROM:-0600
TZOFFSETTO:-0700
TZNAME:MST
DTSTART:20251102T080000
END:STANDARD
BEGIN:DAYLIGHT
TZOFFSETFROM:-0700
TZOFFSETTO:-0600
TZNAME:MDT
DTSTART:20260308T090000
END:DAYLIGHT
BEGIN:STANDARD
TZOFFSETFROM:-0600
TZOFFSETTO:-0700
TZNAME:MST
DTSTART:20261101T080000
END:STANDARD
BEGIN:DAYLIGHT
TZOFFSETFROM:-0700
TZOFFSETTO:-0600
TZNAME:MDT
DTSTART:20270314T090000
END:DAYLIGHT
BEGIN:STANDARD
TZOFFSETFROM:-0600
TZOFFSETTO:-0700
TZNAME:MST
DTSTART:20271107T080000
END:STANDARD
END:VTIMEZONE
BEGIN:VEVENT
DTSTART;TZID=America/Denver:20260422T070000
DTEND;TZID=America/Denver:20260422T080000
DTSTAMP:20260422T032149
CREATED:20260402T182038Z
LAST-MODIFIED:20260402T182038Z
UID:141836-1776841200-1776844800@traderonthestreet.com
SUMMARY:Daily Forex Fanatics
DESCRIPTION:Daily Forex Fanatics
URL:https://traderonthestreet.com/event/daily-forex-fanatics-982/
CATEGORIES:Classes,Paying Customer
ATTACH;FMTTYPE=image/webp:https://traderonthestreet.com/wp-content/uploads/2021/05/Event-Thumbnail_ApiaryFund-Krewe.png.webp
LOCATION:https://us06web.zoom.us/j/84534493786
END:VEVENT
BEGIN:VEVENT
DTSTART;TZID=America/Denver:20260422T080000
DTEND;TZID=America/Denver:20260422T090000
DTSTAMP:20260422T032149
CREATED:20260411T193519Z
LAST-MODIFIED:20260411T193519Z
UID:143649-1776844800-1776848400@traderonthestreet.com
SUMMARY:Prop Trading Room
DESCRIPTION:Prop Trading Room
URL:https://traderonthestreet.com/event/prop-trading-room-2/
CATEGORIES:Trading Room
LOCATION:https://us06web.zoom.us/j/85978307375
END:VEVENT
BEGIN:VEVENT
DTSTART;TZID=America/Denver:20260422T170000
DTEND;TZID=America/Denver:20260422T180000
DTSTAMP:20260422T032149
CREATED:20260411T191037Z
LAST-MODIFIED:20260411T191037Z
UID:143633-1776877200-1776880800@traderonthestreet.com
SUMMARY:Live Trading Room
DESCRIPTION:Live Trading Room
URL:https://traderonthestreet.com/event/live-trading-room-2/
CATEGORIES:Trading Room
LOCATION:https://us06web.zoom.us/j/81422647419
END:VEVENT
END:VCALENDAR